BEGIN:VCALENDAR
VERSION:2.0
PRODID:-//Body Beyond Limits - ECPv5.0.2//NONSGML v1.0//EN
CALSCALE:GREGORIAN
METHOD:PUBLISH
X-WR-CALNAME:Body Beyond Limits
X-ORIGINAL-URL:https://bodybeyondlimits.com.au
X-WR-CALDESC:Events for Body Beyond Limits
BEGIN:VTIMEZONE
TZID:UTC
BEGIN:STANDARD
TZOFFSETFROM:+0000
TZOFFSETTO:+0000
TZNAME:UTC
DTSTART:20200101T000000
END:STANDARD
END:VTIMEZONE
BEGIN:VEVENT
DTSTART;TZID=UTC:20200222T080000
DTEND;TZID=UTC:20200222T090000
DTSTAMP:20200228T050432
CREATED:20200204T035822Z
LAST-MODIFIED:20200204T035822Z
UID:1151-1582358400-1582362000@bodybeyondlimits.com.au
SUMMARY:Nobby's Beach Session
DESCRIPTION:Enjoy the summer while you can and get down to Nobby’s beach for a heart starting session with your mates.\nThis session will run at Nobby’s beach instead of at Body Beyond Limits. \nUse the Facebook even to Book in! \n\n\n	Related\n
URL:https://bodybeyondlimits.com.au/event/nobbys-beach-session/
LOCATION:Nobbys Beach\, 35 Nobbys Rd\, Newcastle East NSW 2300\, Newcastle\, NSW\, 2300\, Australia
CATEGORIES:Group fitness
ATTACH;FMTTYPE=image/jpeg:https://bodybeyondlimits.com.au/wp-content/uploads/2020/02/Beach-session.jpg
ORGANIZER;CN="Body%20Beyond%20Limits":MAILTO:support@bodybeyondlimits.com.au
END:VEVENT
END:VCALENDAR